BEGIN:VCALENDAR
VERSION:2.0
PRODID:-//eventon.com NONSGML v1.0//EN
CALSCALE:GREGORIAN
METHOD:PUBLISH
BEGIN:VEVENT
UID:69e88b9b26d40
DTSTAMP:20260422T084931Z
DTSTART:20240510T190000Z
DTEND:20240510T235900Z
LOCATION:The Grand 70 Harder Drive
SUMMARY:TGIF 80s NEON Party
DESCRIPTION:BUY TICKETS HERE To help raise fund for the Food for Learning s
 tudent nutrition programs we are throwing a party! Not just any party &#821
 1; a TGIF 80’s Neon Party on Friday May 10th\,  2024\,  at The Grand\,  i
 n Belleville ON. The evening will include; An outstanding silent auction. A
 [..]\nhttps://www.hpelearningfoundation.com/events/tgif-80s-neon-party/
URL:https://www.hpelearningfoundation.com/events/tgif-80s-neon-party/
END:VEVENT
END:VCALENDAR